Workbook
Name list_upd: list!$B$1:$B$804

Sheet Δήμοι -νπδδ
A1: ΠΙΝΑΚΑΣ ΣΤΟΧΟΘΕΣΙΑΣ ΟΙΚΟΝΟΜΙΚΩΝ ΑΠΟΤΕΛΕΣΜΑΤΩΝ ΔΗΜΩΝ ΚΑΙ Ν.Π.Δ.Δ. | D1: ΟΝΟΜΑ ΦΟΡΕΑ : | F1: ΠΟΛΙΤΙΣΜΙΚΟΣ ΟΡΓΑΝΙΣΜΟΣ ΟΛΥΜΠΟΥ ΚΑΡΠΑΘΟΥ
A2: ΟΙΚΟΝΟΜΙΚΟ ΕΤΟΣ : 2023 | C2: Α/Α Στήλης : | D2: 1 | E2: 2 | F2: 3 | G2: 4 | H2: 5 | I2: 6 | J2: 7 | K2: 8 | L2: 9 | M2: 10 | N2: 11 | O2: 12 | P2: 13 | Q2: 14 | R2: 15 | S2: 16 | T2: 17 | U2: 18 | V2: 19
A3: Α | B3: ΣΤΟΧΟΘΕΣΙΑ ΕΣΟΔΩΝ | C3: ΟΜΑΔΟΠΟΙΗΜΕΝΟΙ ΚΩΔΙΚΟΙ ΠΡΟΥΠΟΛΟΓΙΣΜΟΥ | D3: ΤΡΕΧΟΥΣΑ ΣΤΟΧΟΘΕΣΙΑ ΕΤΟΥΣ: Π/Υ ΕΤΟΥΣ ΠΟΥ ΑΝΑΛΥΕΤΑΙ ΣΕ ΣΤΟΧΟΥΣ | E3: Ιανουάριος | F3: Φεβρουάριος | G3: Μάρτιος | H3: 3μηνο | I3: Απρίλιος | J3: Μάιος | K3: Ιούνιος | L3: 6μηνο | M3: Ιούλιος | N3: Αύγουστος | O3: Σεπτέμβριος | P3: 9μηνο | Q3: Οκτώβριος | R3: Νοέμβριος | S3: Δεκέμβριος | T3: 12μηνο | U3: Τιμή = 0 => Ταύτιση Στοχοθεσίας και Π/Υ | V3: ΠΡΟΙΣΧΥΟΥΣΑ ΣΤΟΧΟΘΕΣΙΑ ΕΤΟΥΣ: ΣΥΜΠΛΗΡΩΝΕΤΑΙ ΥΣΤΕΡΑ ΑΠΌ ΑΝΑΜΟΡΦΩΣΗ ΣΤΟΧΟΘΕΣΙΑΣ
A4: Γραμμή 1 | B4: Επιχορηγήσεις από Τακτικό Προϋπολογισμό | C4: ='mapping '!F7 -> (+) (06) _ΕΣΟΔΑ ΑΠΟ ΕΠΙΧΟΡΗΓΗΣΕΙΣ(+) (1211) _Έκτακτες επιχορηγήσεις για την κάλυψη λειτουργικών δαπανών από εθνικούς πόρους (μέσω του τακτικού προϋπολογισμού)(+) (1215) _Έσοδο από επιχορήγηση για πληρωμή ληξιπρόθεσμων(+) (1325) _Επιχορηγήσεις από εθνικούς πόρους για κάλυψη έκτακτων αναγκών για έργα (μέσω του τακτικού προϋπολογισμού)(+) (1327) _Χρηματοδοτήσεις από Κεντρικούς φορείς (μέσω του τακτικού προϋπολογισμού)(+) (4311) _ΚΑΠ για την κάλυψη των λειτουργικών αναγκών των σχολείων Α/θμιας και Β/θμιας εκπαίδευσης (άρθρο 55 Ν 1946/91)(+) (4312) _Έσοδα για τη χορήγηση επιδομάτων για φυσικές καταστροφές(+) (4313) _Επιχορήγηση από ΟΑΕΔ για μακροχρόνια ανέργους | H4: =E4+F4+G4 -> 0 | L4: =H4+I4+J4+K4 -> 0 | P4: =L4+M4+N4+O4 -> 0 | T4: =P4+Q4+R4+S4 -> 0 | U4: =D4-T4 -> 0
A5: Γραμμή 2 | B5: Επιχορηγήσεις από ΠΔΕ, Ε.Ε και λοιπές πηγές. | C5: ='mapping '!F17 -> (+) (121) _ΕΠΙΧΟΡΗΓΗΣΕΙΣ ΓΙΑ ΚΑΛΥΨΗ ΛΕΙΤΟΥΡΓΙΚΩΝ ΔΑΠΑΝΩΝ(-) (1211) _Έκτακτες επιχορηγήσεις για την κάλυψη λειτουργικών δαπανών από εθνικούς πόρους (μέσω του τακτικού προϋπολογισμού)(-) (1215) _Έσοδο από επιχορήγηση για πληρωμή ληξιπρόθεσμων(+) (131) _ΕΠΙΧΟΡΗΓΗΣΕΙΣ ΑΠΟ ΘΕΣΜΟΘΕΤΗΜΕΝΟΥΣ ΠΟΡΟΥΣ ΓΙΑ ΕΠΕΝΔΥΤΙΚΕΣ ΔΑΠΑΝΕΣ(+) (132) _ΛΟΙΠΕΣ ΕΠΙΧΟΡΗΓΗΣΕΙΣ ΓΙΑ ΕΠΕΝΔΥΣΕΙΣ ΚΑΙ ΕΡΓΑ(-) (1325) _Επιχορηγήσεις από εθνικούς πόρους για κάλυψη έκτακτων αναγκών για έργα (μέσω του τακτικού προϋπολογισμού)(-) (1327) _Χρηματοδοτήσεις από Κεντρικούς φορείς (μέσω του τακτικού προϋπολογισμού)(+) (3123) _Αναπτυξιακά - Επενδυτικά δάνεια από ειδικά προγράμματα [Πρόγραμμα «Αντώνης Τρίτσης» (παρ. 5 του άρ. 130 του ν. 4635/2019, Α΄ 167, ΚΕΦΑΛΑΙΟ Β΄ της κυα υπ’ αριθμ. 22766/09-04-2020) - Πρόγραμμα Φιλόδημος Ι (αρ. 69 του ν. 4509/2017)](+) (3125) _Δάνεια που αφορούν στα Τοπικά Χωρικά Σχέδια (αρ. 70 του ν. 4509/2017)(+) (3126) _Δάνεια που αφορούν σε ενεργειακή αναβάθμιση δημόσιων κτιρίων (αρ. 37 του ν. 4608/2019)(+) (3129) _Λοιπά Αναπτυξιακά – Επενδυτικά δάνεια από ειδικά προγράμματα(-) ([60-69]-ΚΑΕ 65) _ΠΛΗΡΩΜΕΣ ΓΙΑ ΤΗΝ ΕΞΥΠΗΡΕΤΗΣΗ ΔΗΜΟΣΙΑΣ ΠΙΣΤΕΩΣ που παρακολουθούνται στους ΚΑ υπηρεσιών του ΠΔΕ: 60 - 69 (-) (8262) _Επιστροφή χρημάτων λόγω ανάκλησης κατανομής χρηματοδότησης ΠΔΕ | H5: =E5+F5+G5 -> 0 | L5: =H5+I5+J5+K5 -> 0 | P5: =L5+M5+N5+O5 -> 0 | T5: =P5+Q5+R5+S5 -> 0 | U5: =D5-T5 -> 0
A6: Γραμμή 3.α | B6: Ίδια Έσοδα | C6: ='mapping '!F32 -> (+) (01) _Πρόσοδοι από ακίνητη περιουσία(+) (02) _Έσοδα από κινητή περιουσία(+) (03) _Έσοδα από ανταποδοτικά τέλη και δικαιώματα(+) (04) _Έσοδα από λοιπά τέλη δικαιώματα και παροχή υπηρεσιών(+) (05) _Φόροι και εισφορές(+) (07) _Λοιπά τακτικά έσοδα(+) (11) _Εσοδα από εκποίηση κινητής και ακίνητης περιουσίας(+) (14) _Δωρεές-κληρονομιές - κληροδοσίες(+) (15) _Προσαυξήσεις πρόστιμα παράβολα(+) (16) _Λοιπά έκτακτα έσοδα | D6: 20000 | H6: =E6+F6+G6 -> 0 | K6: 10000 | L6: =H6+I6+J6+K6 -> 10000 | P6: =L6+M6+N6+O6 -> 10000 | S6: 10000 | T6: =P6+Q6+R6+S6 -> 20000 | U6: =D6-T6 -> 0
A7: Γραμμή 3.β | B7: Ίδια Έσοδα που βεβαιώνονται και εισπράττονται για πρώτη φορά | C7: ='mapping '!D44 -> (+) (2) _Έσοδα παρελθόντων οικονομικών ετών (Π.Ο.Ε.) που βεβαιώνονται για πρώτη φορά | H7: =E7+F7+G7 -> 0 | L7: =H7+I7+J7+K7 -> 0 | P7: =L7+M7+N7+O7 -> 0 | T7: =P7+Q7+R7+S7 -> 0 | U7: =D7-T7 -> 0
A8: Γραμμή 4 | B8: Έσοδα που προβλέπεται να εισπραχθούν από απαιτήσεις ΠΟΕ | C8: ='mapping '!F47 -> (+) (32) _Εισπρακτέα υπόλοιπα από βεβαιωθέντα έσοδα κατά τα παρελθόντα έτη(-) (8511) _Προβλέψεις μη είσπραξης εισπρακτέων υπολοίπων | H8: =E8+F8+G8 -> 0 | L8: =H8+I8+J8+K8 -> 0 | P8: =L8+M8+N8+O8 -> 0 | T8: =P8+Q8+R8+S8 -> 0 | U8: =D8-T8 -> 0
A9: Γραμμή 5 | B9: Λοιπά Έσοδα | C9: ='mapping '!F51 -> (+) (31) _Εισπράξεις από δάνεια(-) (3123) _Αναπτυξιακά - Επενδυτικά δάνεια από ειδικά προγράμματα [Πρόγραμμα «Αντώνης Τρίτσης» (παρ. 5 του άρ. 130 του ν. 4635/2019, Α΄ 167, ΚΕΦΑΛΑΙΟ Β΄ της κυα υπ’ αριθμ. 22766/09-04-2020) - Πρόγραμμα Φιλόδημος Ι (αρ. 69 του ν. 4509/2017)](-) (3125) _Δάνεια που αφορούν στα Τοπικά Χωρικά Σχέδια (αρ. 70 του ν. 4509/2017)(-) (3126) _Δάνεια που αφορούν σε ενεργειακή αναβάθμιση δημόσιων κτιρίων (αρ. 37 του ν. 4608/2019)(-) (3129) _Λοιπά Αναπτυξιακά – Επενδυτικά δάνεια από ειδικά προγράμματα(+) (41) _Εισπράξεις υπέρ δημοσίου και τρίτων (+) (42) _Επιστροφές χρημάτων(+) (4319) _Λοιπά έσοδα προς απόδοση σε τρίτους | D9: 10000 | H9: =E9+F9+G9 -> 0 | K9: 5000 | L9: =H9+I9+J9+K9 -> 5000 | P9: =L9+M9+N9+O9 -> 5000 | S9: 5000 | T9: =P9+Q9+R9+S9 -> 10000 | U9: =D9-T9 -> 0
A10: Α.1 | B10: ΣΥΝΟΛΟ ΕΣΟΔΩΝ ΓΡΑΜΜΕΣ 1-5 | D10: =SUM(D4:D9) -> 30000 | E10: =SUM(E4:E9) -> 0 | F10: =SUM(F4:F9) -> 0 | G10: =SUM(G4:G9) -> 0 | H10: =E10+F10+G10 -> 0 | I10: =SUM(I4:I9) -> 0 | J10: =SUM(J4:J9) -> 0 | K10: =SUM(K4:K9) -> 15000 | L10: =H10+I10+J10+K10 -> 15000 | M10: =SUM(M4:M9) -> 0 | N10: =SUM(N4:N9) -> 0 | O10: =SUM(O4:O9) -> 0 | P10: =L10+M10+N10+O10 -> 15000 | Q10: =SUM(Q4:Q9) -> 0 | R10: =SUM(R4:R9) -> 0 | S10: =SUM(S4:S9) -> 15000 | T10: =P10+Q10+R10+S10 -> 30000 | U10: =D10-T10 -> 0 | V10: =SUM(V4:V9) -> 0
A11: Γραμμή 6 | B11: Διαθέσιμα | C11: Ταμειακά διαθέσιμα κατά την 31.12 του προηγούμενου έτους (συμπληρώνεται υποχρεωτικά) | D11: 113003
A12: Γραμμή 7 | B12: Προσαρμοσμένο Χρηματικό Υπόλοιπο | C12: 5_Χρηματικό υπόλοιπο(-) (8512)_Προβλέψεις μη είσπραξης εξαιτίας λογιστικών εκκρεμοτήτων(-) (8513)_Προβλέψεις μη είσπραξης εξαιτίας ταμειακών ελλειμμάτων | D12: 113003
A13: A.2 | B13: ΣΥΝΟΛΟ ΕΣΟΔΩΝ ΚΑΙ ΔΙΑΘΕΣΙΜΩΝ (Σύνολο Γραμμών 1-6) | D13: =D10+D11 -> 143003
A15: Β | B15: ΣΤΟΧΟΘΕΣΙΑ ΕΞΟΔΩΝ | C15: ΟΜΑΔΟΠΟΙΗΜΕΝΟΙ ΚΩΔΙΚΟΙ ΠΡΟΥΠΟΛΟΓΙΣΜΟΥ | D15: ΤΡΕΧΟΥΣΑ ΣΤΟΧΟΘΕΣΙΑ ΕΤΟΥΣ: Π/Υ ΕΤΟΥΣ ΠΟΥ ΑΝΑΛΥΕΤΑΙ ΣΕ ΣΤΟΧΟΥΣ | E15: Ιανουάριος | F15: Φεβρουάριος | G15: Μάρτιος | H15: 3μηνο | I15: Απρίλιος | J15: Μάιος | K15: Ιούνιος | L15: 6μηνο | M15: Ιούλιος | N15: Αύγουστος | O15: Σεπτέμβριος | P15: 9μηνο | Q15: Οκτώβριος | R15: Νοέμβριος | S15: Δεκέμβριος | T15: 12μηνο | U15: Έλεγχος ταύτισης Π/Υ και Στοχοθεσίας (Η ΤΙΜΗ ΠΡΕΠΕΙ ΝΑ ΙΣΟΥΤΑΙ ΜΕ "0") | V15: ΠΡΟΙΣΧΥΟΥΣΑ ΣΤΟΧΟΘΕΣΙΑ ΕΤΟΥΣ: ΣΥΜΠΛΗΡΩΝΕΤΑΙ ΥΣΤΕΡΑ ΑΠΌ ΑΝΑΜΟΡΦΩΣΗ Η ΠΡΟΙΣΧΥΟΥΣΑ ΣΤΟΧΟΘΕΣΙΑ
A16: Γραμμή 1 | B16: Κόστος προσωπικού | C16: ='mapping '!F71 -> (+) (60) _Αμοιβές και έξοδα προσωπικού(+) (8111) _Αμοιβές και έξοδα προσωπικού (ΠΟΕ) | H16: =E16+F16+G16 -> 0 | L16: =H16+I16+J16+K16 -> 0 | P16: =L16+M16+N16+O16 -> 0 | T16: =P16+Q16+R16+S16 -> 0 | U16: =D16-T16 -> 0
A17: Γραμμή 2 | B17: Λοιπά έξοδα χρήσης | C17: ='mapping '!F75 -> (+) (6) _Έξοδα Χρήσης(-) (60) _Αμοιβές και έξοδα προσωπικού(-) (ΥΠΗΡ.60-69_KAE 65) _ΠΛΗΡΩΜΕΣ ΓΙΑ ΤΗΝ ΕΞΥΠΗΡΕΤΗΣΗ ΔΗΜΟΣΙΑΣ ΠΙΣΤΕΩΣ που παρακολουθούνται στους ΚΑ υπηρεσιών του ΠΔΕ: 60 - 69 (+) (8243) _Απόδοση επιδομάτων για φυσικές καταστροφές σε δικαιούχους | D17: 75500 | H17: =E17+F17+G17 -> 0 | K17: 25000 | L17: =H17+I17+J17+K17 -> 25000 | P17: =L17+M17+N17+O17 -> 25000 | S17: 50500 | T17: =P17+Q17+R17+S17 -> 75500 | U17: =D17-T17 -> 0
A18: Γραμμή 3 | B18: Δαπάνες για επενδύσεις | C18: ='mapping '!F81 -> (+) (7) _Επενδύσεις(+) (812) _Πληρωμές επενδυτικών δαπανών (ΠΟΕ) | D18: 54000 | H18: =E18+F18+G18 -> 0 | L18: =H18+I18+J18+K18 -> 0 | P18: =L18+M18+N18+O18 -> 0 | S18: 54000 | T18: =P18+Q18+R18+S18 -> 54000 | U18: =D18-T18 -> 0
A19: Γραμμή 4 | B19: Πληρωμές ΠΟΕ | C19: ='mapping '!F85 -> (+) (81) _Πληρωμές υποχρεώσεων (Π.Ο.Ε.)(-) (8111) _Αμοιβές και έξοδα προσωπικού(-) (812) _Πληρωμές επενδυτικών δαπανών (ΠΟΕ)(+) (83) _Επιχορηγούμενες πληρωμές υποχρεώσεων (Π.Ο.Ε.) | D19: 2294 | H19: =E19+F19+G19 -> 0 | I19: 2294 | L19: =H19+I19+J19+K19 -> 2294 | P19: =L19+M19+N19+O19 -> 2294 | T19: =P19+Q19+R19+S19 -> 2294 | U19: =D19-T19 -> 0
A20: Γραμμή 5 | B20: Αποδόσεις εσόδων υπέρ Δημοσίου και τρίτων | C20: ='mapping '!F92 -> (+) (82) _α) Αποδόσεις εσόδων υπέρ Δημοσίου και τρίτων(-) (8243) _Απόδοση επιδομάτων για φυσικές καταστροφές σε δικαιούχους(-) (8262) _Επιστροφή χρημάτων λόγω ανάκλησης κατανομής χρηματοδότησης ΠΔΕ | D20: 10000 | H20: =E20+F20+G20 -> 0 | K20: 5000 | L20: =H20+I20+J20+K20 -> 5000 | P20: =L20+M20+N20+O20 -> 5000 | S20: 5000 | T20: =P20+Q20+R20+S20 -> 10000 | U20: =D20-T20 -> 0
A21: B.1 | B21: ΣΥΝΟΛΟ ΕΞΟΔΩΝ (Γραμμές 1 - 5) | D21: =SUM(D16:D20) -> 141794 | E21: =SUM(E16:E20) -> 0 | F21: =SUM(F16:F20) -> 0 | G21: =SUM(G16:G20) -> 0 | H21: =E21+F21+G21 -> 0 | I21: =SUM(I16:I20) -> 2294 | J21: =SUM(J16:J20) -> 0 | K21: =SUM(K16:K20) -> 30000 | L21: =H21+I21+J21+K21 -> 32294 | M21: =SUM(M16:M20) -> 0 | N21: =SUM(N16:N20) -> 0 | O21: =SUM(O16:O20) -> 0 | P21: =L21+M21+N21+O21 -> 32294 | Q21: =SUM(Q16:Q20) -> 0 | R21: =SUM(R16:R20) -> 0 | S21: =SUM(S16:S20) -> 109500 | T21: =P21+Q21+R21+S21 -> 141794 | U21: =D21-T21 -> 0 | V21: =SUM(V16:V20) -> 0
A22: Γραμμή 6 | B22: Αποθεματικό | C22: (9)_Αποθεματικό | D22: 1209
A23: Β.2 | B23: ΣΥΝΟΛΟ ΕΞΟΔΩΝ ΜΕ ΑΠΟΘΕΜΑΤΙΚΟ (Γραμμές 1 - 6) | D23: =D21+D22 -> 143003
A25: Γ.1 | B25: Ύψος Απλήρωτων Υποχρεώσεων κατά την 31/12 προηγούμενου οικ. έτους | D25: 2294
A26: Γ.2 | B26: Μηνιαίοι στόχοι απλήρωτων υποχρεώσεων έτους στοχοθεσίας | E26: 2290 | F26: 2000 | G26: 1900 | H26: =G26 -> 1900 | I26: 1800 | J26: 1700 | K26: 1600 | L26: =K26 -> 1600 | M26: 1500 | N26: 1400 | O26: 1300 | P26: =O26 -> 1300 | Q26: 1000 | R26: 500 | S26: 0 | T26: =S26 -> 0
A28: Δ | B28: Ταμειακό αποτέλεσμα ΟΠΔ (Στόχος) | E28: =+D11+E10-E21 -> 113003 | F28: =+E28+F10-F21 -> 113003 | G28: =+F28+G10-G21 -> 113003 | H28: =$D11+H10-H21 -> 113003 | I28: =+H28+I10-I21 -> 110709 | J28: =+I28+J10-J21 -> 110709 | K28: =+J28+K10-K21 -> 95709 | L28: =$D11+L10-L21 -> 95709 | M28: =+L28+M10-M21 -> 95709 | N28: =+M28+N10-N21 -> 95709 | O28: =+N28+O10-O21 -> 95709 | P28: =$D11+P10-P21 -> 95709 | Q28: =+P28+Q10-Q21 -> 95709 | R28: =+Q28+R10-R21 -> 95709 | S28: =+R28+S10-S21 -> 1209 | T28: =$D11+T10-T21 -> 1209
A30: Ε | B30: Οικονομικό αποτέλεσμα ΟΠΔ (Στόχος) | E30: =+E28-E26 -> 110713 | F30: =+F28-F26 -> 111003 | G30: =+G28-G26 -> 111103 | H30: =+H28-H26 -> 111103 | I30: =+I28-I26 -> 108909 | J30: =+J28-J26 -> 109009 | K30: =+K28-K26 -> 94109 | L30: =+L28-L26 -> 94109 | ... T30: =+T28-T26 -> 1209
A32: Ζ | B32: Διαφορά για συμφωνία Π/Υ | C32: (85) Προβλέψεις μη είσπραξης βεβαιωμένων κατά τα ΠΟΕ
A34: Η.1 | B34: Συμφωνία ετήσιων στόχων με Π/Υ | C34: "Σύνολο Εσόδων 1-5" + "Προσαρμοσμένο Χρηματικό Υπόλοιπο" + ΚΑΕ (85) | D34: =D10+D12+D32 -> 143003
A36: Η.2 | B36: Συμφωνία ετήσιων στόχων με Π/Υ | C36: "Σύνολο Εξόδων με αποθεματικό 1-6" + ΚΑΕ (85) | D36: =D23+D32 -> 143003
A39: Υπόδειγμα: Σ.1-ΔΗΜΟΙ_ΝΠΔΔ

Sheet Φύλλο3

Sheet mapping 
A1: Mapping_ΟΠΔ
B4: A | C4: ΕΣΟΔΑ
A6: ΚΑΕ | B6: 1 | C6: Επιχορηγήσεις από Τακτικό Προϋπολογισμό
A7: 06 | B7: + | C7: ΕΣΟΔΑ ΑΠΟ ΕΠΙΧΟΡΗΓΗΣΕΙΣ | D7: ="("&B7&")"&" ("&A7&") "&"_"&C7 -> (+) (06) _ΕΣΟΔΑ ΑΠΟ ΕΠΙΧΟΡΗΓΗΣΕΙΣ | F7: =+D7&D8&D9&D10&D11&D12&D13&D14 -> (+) (06) _ΕΣΟΔΑ ΑΠΟ ΕΠΙΧΟΡΗΓΗΣΕΙΣ(+) (1211) _Έκτακτες επιχορηγήσεις για την κάλυψη λειτουργικών δαπανών από εθνικούς πόρους (μέσω του τακτικού προϋπολογισμού)(+) (1215) _Έσοδο από επιχορήγηση για πληρωμή ληξιπρόθεσμων(+) (1325) _Επιχορηγήσεις από εθνικούς πόρους για κάλυψη έκτακτων αναγκών για έργα (μέσω του τακτικού προϋπολογισμού)(+) (1327) _Χρηματοδοτήσεις από Κεντρικούς φορείς (μέσω του τακτικού προϋπολογισμού)(+) (4311) _ΚΑΠ για την κάλυψη των λειτουργικών αναγκών των σχολείων Α/θμιας και Β/θμιας εκπαίδευσης (άρθρο 55 Ν 1946/91)(+) (4312) _Έσοδα για τη χορήγηση επιδομάτων για φυσικές καταστροφές(+) (4313) _Επιχορήγηση από ΟΑΕΔ για μακροχρόνια ανέργους
A8: 1211 | B8: + | C8: Έκτακτες επιχορηγήσεις για την κάλυψη λειτουργικών δαπανών από εθνικούς πόρους (μέσω του τακτικού προϋπολογισμού) | D8: ="("&B8&")"&" ("&A8&") "&"_"&C8 -> (+) (1211) _Έκτακτες επιχορηγήσεις για την κάλυψη λειτουργικών δαπανών από εθνικούς πόρους (μέσω του τακτικού προϋπολογισμού)
A9: 1215 | B9: + | C9: Έσοδο από επιχορήγηση για πληρωμή ληξιπρόθεσμων | D9: ="("&B9&")"&" ("&A9&") "&"_"&C9 -> (+) (1215) _Έσοδο από επιχορήγηση για πληρωμή ληξιπρόθεσμων
A10: 1325 | B10: + | C10: Επιχορηγήσεις από εθνικούς πόρους για κάλυψη έκτακτων αναγκών για έργα (μέσω του τακτικού προϋπολογισμού) | D10: ="("&B10&")"&" ("&A10&") "&"_"&C10 -> (+) (1325) _Επιχορηγήσεις από εθνικούς πόρους για κάλυψη έκτακτων αναγκών για έργα (μέσω του τακτικού προϋπολογισμού)
A11: 1327 | B11: + | C11: Χρηματοδοτήσεις από Κεντρικούς φορείς (μέσω του τακτικού προϋπολογισμού) | D11: ="("&B11&")"&" ("&A11&") "&"_"&C11 -> (+) (1327) _Χρηματοδοτήσεις από Κεντρικούς φορείς (μέσω του τακτικού προϋπολογισμού)
A12: 4311 | B12: + | C12: ΚΑΠ για την κάλυψη των λειτουργικών αναγκών των σχολείων Α/θμιας και Β/θμιας εκπαίδευσης (άρθρο 55 Ν 1946/91) | D12: ="("&B12&")"&" ("&A12&") "&"_"&C12 -> (+) (4311) _ΚΑΠ για την κάλυψη των λειτουργικών αναγκών των σχολείων Α/θμιας και Β/θμιας εκπαίδευσης (άρθρο 55 Ν 1946/91)
A13: 4312 | B13: + | C13: Έσοδα για τη χορήγηση επιδομάτων για φυσικές καταστροφές | D13: ="("&B13&")"&" ("&A13&") "&"_"&C13 -> (+) (4312) _Έσοδα για τη χορήγηση επιδομάτων για φυσικές καταστροφές
A14: 4313 | B14: + | C14: Επιχορήγηση από ΟΑΕΔ για μακροχρόνια ανέργους | D14: ="("&B14&")"&" ("&A14&") "&"_"&C14 -> (+) (4313) _Επιχορήγηση από ΟΑΕΔ για μακροχρόνια ανέργους
A16: ΚΑΕ | B16: 2 | C16: Επιχορηγήσεις από ΠΔΕ, ΕΕ και λοιπές πηγές
A17: 121 | B17: + | C17: ΕΠΙΧΟΡΗΓΗΣΕΙΣ ΓΙΑ ΚΑΛΥΨΗ ΛΕΙΤΟΥΡΓΙΚΩΝ ΔΑΠΑΝΩΝ | D17: ="("&B17&")"&" ("&A17&") "&"_"&C17 -> (+) (121) _ΕΠΙΧΟΡΗΓΗΣΕΙΣ ΓΙΑ ΚΑΛΥΨΗ ΛΕΙΤΟΥΡΓΙΚΩΝ ΔΑΠΑΝΩΝ | F17: =+D17&D18&D19&D20&D21&D22&D23&D24&D25&D26&D27&D28&D29 -> (+) (121) _ΕΠΙΧΟΡΗΓΗΣΕΙΣ ΓΙΑ ΚΑΛΥΨΗ ΛΕΙΤΟΥΡΓΙΚΩΝ ΔΑΠΑΝΩΝ(-) (1211) _Έκτακτες επιχορηγήσεις για την κάλυψη λειτουργικών δαπανών από εθνικούς πόρους (μέσω του τακτικού προϋπολογισμού)(-) (1215) _Έσοδο από επιχορήγηση για πληρωμή ληξιπρόθεσμων(+) (131) _ΕΠΙΧΟΡΗΓΗΣΕΙΣ ΑΠΟ ΘΕΣΜΟΘΕΤΗΜΕΝΟΥΣ ΠΟΡΟΥΣ ΓΙΑ ΕΠΕΝΔΥΤΙΚΕΣ ΔΑΠΑΝΕΣ(+) (132) _ΛΟΙΠΕΣ ΕΠΙΧΟΡΗΓΗΣΕΙΣ ΓΙΑ ΕΠΕΝΔΥΣΕΙΣ ΚΑΙ ΕΡΓΑ(-) (1325) _Επιχορηγήσεις από εθνικούς πόρους για κάλυψη έκτακτων αναγκών για έργα (μέσω του τακτικού προϋπολογισμού)(-) (1327) _Χρηματοδοτήσεις από Κεντρικούς φορείς (μέσω του τακτικού προϋπολογισμού)(+) (3123) _Αναπτυξιακά - Επενδυτικά δάνεια από ειδικά προγράμματα [Πρόγραμμα «Αντώνης Τρίτσης» (παρ. 5 του άρ. 130 του ν. 4635/2019, Α΄ 167, ΚΕΦΑΛΑΙΟ Β΄ της κυα υπ’ αριθμ. 22766/09-04-2020) - Πρόγραμμα Φιλόδημος Ι (αρ. 69 του ν. 4509/2017)](+) (3125) _Δάνεια που αφορούν στα Τοπικά Χωρικά Σχέδια (αρ. 70 του ν. 4509/2017)(+) (3126) _Δάνεια που αφορούν σε ενεργειακή αναβάθμιση δημόσιων κτιρίων (αρ. 37 του ν. 4608/2019)(+) (3129) _Λοιπά Αναπτυξιακά – Επενδυτικά δάνεια από ειδικά προγράμματα(-) ([60-69]-ΚΑΕ 65) _ΠΛΗΡΩΜΕΣ ΓΙΑ ΤΗΝ ΕΞΥΠΗΡΕΤΗΣΗ ΔΗΜΟΣΙΑΣ ΠΙΣΤΕΩΣ που παρακολουθούνται στους ΚΑ υπηρεσιών του ΠΔΕ: 60 - 69 (-) (8262) _Επιστροφή χρημάτων λόγω ανάκλησης κατανομής χρηματοδότησης ΠΔΕ
A18: 1211 | B18: - | C18: Έκτακτες επιχορηγήσεις για την κάλυψη λειτουργικών δαπανών από εθνικούς πόρους (μέσω του τακτικού προϋπολογισμού) | D18: ="("&B18&")"&" ("&A18&") "&"_"&C18 -> (-) (1211) _Έκτακτες επιχορηγήσεις για την κάλυψη λειτουργικών δαπανών από εθνικούς πόρους (μέσω του τακτικού προϋπολογισμού)
A19: 1215 | B19: - | C19: Έσοδο από επιχορήγηση για πληρωμή ληξιπρόθεσμων | D19: ="("&B19&")"&" ("&A19&") "&"_"&C19 -> (-) (1215) _Έσοδο από επιχορήγηση για πληρωμή ληξιπρόθεσμων
A20: 131 | B20: + | C20: ΕΠΙΧΟΡΗΓΗΣΕΙΣ ΑΠΟ ΘΕΣΜΟΘΕΤΗΜΕΝΟΥΣ ΠΟΡΟΥΣ ΓΙΑ ΕΠΕΝΔΥΤΙΚΕΣ ΔΑΠΑΝΕΣ | D20: ="("&B20&")"&" ("&A20&") "&"_"&C20 -> (+) (131) _ΕΠΙΧΟΡΗΓΗΣΕΙΣ ΑΠΟ ΘΕΣΜΟΘΕΤΗΜΕΝΟΥΣ ΠΟΡΟΥΣ ΓΙΑ ΕΠΕΝΔΥΤΙΚΕΣ ΔΑΠΑΝΕΣ
A21: 132 | B21: + | C21: ΛΟΙΠΕΣ ΕΠΙΧΟΡΗΓΗΣΕΙΣ ΓΙΑ ΕΠΕΝΔΥΣΕΙΣ ΚΑΙ ΕΡΓΑ | D21: ="("&B21&")"&" ("&A21&") "&"_"&C21 -> (+) (132) _ΛΟΙΠΕΣ ΕΠΙΧΟΡΗΓΗΣΕΙΣ ΓΙΑ ΕΠΕΝΔΥΣΕΙΣ ΚΑΙ ΕΡΓΑ
A22: 1325 | B22: - | C22: Επιχορηγήσεις από εθνικούς πόρους για κάλυψη έκτακτων αναγκών για έργα (μέσω του τακτικού προϋπολογισμού) | D22: ="("&B22&")"&" ("&A22&") "&"_"&C22 -> (-) (1325) _Επιχορηγήσεις από εθνικούς πόρους για κάλυψη έκτακτων αναγκών για έργα (μέσω του τακτικού προϋπολογισμού)
A23: 1327 | B23: - | C23: Χρηματοδοτήσεις από Κεντρικούς φορείς (μέσω του τακτικού προϋπολογισμού) | D23: ="("&B23&")"&" ("&A23&") "&"_"&C23 -> (-) (1327) _Χρηματοδοτήσεις από Κεντρικούς φορείς (μέσω του τακτικού προϋπολογισμού)
A24: 3123 | B24: + | C24: Αναπτυξιακά - Επενδυτικά δάνεια από ειδικά προγράμματα [Πρόγραμμα «Αντώνης Τρίτσης» (παρ. 5 του άρ. 130 του ν. 4635/2019, Α΄ 167, ΚΕΦΑΛΑΙΟ Β΄ της κυα υπ’ αριθμ. 22766/09-04-2020) - Πρόγραμμα Φιλόδημος Ι (αρ. 69 του ν. 4509/2017)] | D24: ="("&B24&")"&" ("&A24&") "&"_"&C24 -> (+) (3123) _Αναπτυξιακά - Επενδυτικά δάνεια από ειδικά προγράμματα [Πρόγραμμα «Αντώνης Τρίτσης» (παρ. 5 του άρ. 130 του ν. 4635/2019, Α΄ 167, ΚΕΦΑΛΑΙΟ Β΄ της κυα υπ’ αριθμ. 22766/09-04-2020) - Πρόγραμμα Φιλόδημος Ι (αρ. 69 του ν. 4509/2017)]
A25: 3125 | B25: + | C25: Δάνεια που αφορούν στα Τοπικά Χωρικά Σχέδια (αρ. 70 του ν. 4509/2017) | D25: ="("&B25&")"&" ("&A25&") "&"_"&C25 -> (+) (3125) _Δάνεια που αφορούν στα Τοπικά Χωρικά Σχέδια (αρ. 70 του ν. 4509/2017)
A26: 3126 | B26: + | C26: Δάνεια που αφορούν σε ενεργειακή αναβάθμιση δημόσιων κτιρίων (αρ. 37 του ν. 4608/2019) | D26: ="("&B26&")"&" ("&A26&") "&"_"&C26 -> (+) (3126) _Δάνεια που αφορούν σε ενεργειακή αναβάθμιση δημόσιων κτιρίων (αρ. 37 του ν. 4608/2019)
A27: 3129 | B27: + | C27: Λοιπά Αναπτυξιακά – Επενδυτικά δάνεια από ειδικά προγράμματα | D27: ="("&B27&")"&" ("&A27&") "&"_"&C27 -> (+) (3129) _Λοιπά Αναπτυξιακά – Επενδυτικά δάνεια από ειδικά προγράμματα
A28: [60-69]-ΚΑΕ 65 | B28: - | C28: ΠΛΗΡΩΜΕΣ ΓΙΑ ΤΗΝ ΕΞΥΠΗΡΕΤΗΣΗ ΔΗΜΟΣΙΑΣ ΠΙΣΤΕΩΣ που παρακολουθούνται στους ΚΑ υπηρεσιών του ΠΔΕ: 60 - 69 | D28: ="("&B28&")"&" ("&A28&") "&"_"&C28 -> (-) ([60-69]-ΚΑΕ 65) _ΠΛΗΡΩΜΕΣ ΓΙΑ ΤΗΝ ΕΞΥΠΗΡΕΤΗΣΗ ΔΗΜΟΣΙΑΣ ΠΙΣΤΕΩΣ που παρακολουθούνται στους ΚΑ υπηρεσιών του ΠΔΕ: 60 - 69
A29: 8262 | B29: - | C29: Επιστροφή χρημάτων λόγω ανάκλησης κατανομής χρηματοδότησης ΠΔΕ | D29: ="("&B29&")"&" ("&A29&") "&"_"&C29 -> (-) (8262) _Επιστροφή χρημάτων λόγω ανάκλησης κατανομής χρηματοδότησης ΠΔΕ
A31: ΚΑΕ | B31: 3α | C31: Ίδια Έσοδα
A32: 01 | B32: + | C32: Πρόσοδοι από ακίνητη περιουσία | D32: ="("&B32&")"&" ("&A32&") "&"_"&C32 -> (+) (01) _Πρόσοδοι από ακίνητη περιουσία | F32: =+D32&D33&D34&D35&D36&D37&D38&D39&D40&D41 -> (+) (01) _Πρόσοδοι από ακίνητη περιουσία(+) (02) _Έσοδα από κινητή περιουσία(+) (03) _Έσοδα από ανταποδοτικά τέλη και δικαιώματα(+) (04) _Έσοδα από λοιπά τέλη δικαιώματα και παροχή υπηρεσιών(+) (05) _Φόροι και εισφορές(+) (07) _Λοιπά τακτικά έσοδα(+) (11) _Εσοδα από εκποίηση κινητής και ακίνητης περιουσίας(+) (14) _Δωρεές-κληρονομιές - κληροδοσίες(+) (15) _Προσαυξήσεις πρόστιμα παράβολα(+) (16) _Λοιπά έκτακτα έσοδα
A33: 02 | B33: + | C33: Έσοδα από κινητή περιουσία | D33: ="("&B33&")"&" ("&A33&") "&"_"&C33 -> (+) (02) _Έσοδα από κινητή περιουσία
A34: 03 | B34: + | C34: Έσοδα από ανταποδοτικά τέλη και δικαιώματα | D34: ="("&B34&")"&" ("&A34&") "&"_"&C34 -> (+) (03) _Έσοδα από ανταποδοτικά τέλη και δικαιώματα
A35: 04 | B35: + | C35: Έσοδα από λοιπά τέλη δικαιώματα και παροχή υπηρεσιών | D35: ="("&B35&")"&" ("&A35&") "&"_"&C35 -> (+) (04) _Έσοδα από λοιπά τέλη δικαιώματα και παροχή υπηρεσιών
A36: 05 | B36: + | C36: Φόροι και εισφορές | D36: ="("&B36&")"&" ("&A36&") "&"_"&C36 -> (+) (05) _Φόροι και εισφορές
A37: 07 | B37: + | C37: Λοιπά τακτικά έσοδα | D37: ="("&B37&")"&" ("&A37&") "&"_"&C37 -> (+) (07) _Λοιπά τακτικά έσοδα
A38: 11 | B38: + | C38: Εσοδα από εκποίηση κινητής και ακίνητης περιουσίας | D38: ="("&B38&")"&" ("&A38&") "&"_"&C38 -> (+) (11) _Εσοδα από εκποίηση κινητής και ακίνητης περιουσίας
A39: 14 | B39: + | C39: Δωρεές-κληρονομιές - κληροδοσίες | D39: ="("&B39&")"&" ("&A39&") "&"_"&C39 -> (+) (14) _Δωρεές-κληρονομιές - κληροδοσίες
A40: 15 | B40: + | C40: Προσαυξήσεις πρόστιμα παράβολα | D40: ="("&B40&")"&" ("&A40&") "&"_"&C40 -> (+) (15) _Προσαυξήσεις πρόστιμα παράβολα
A41: 16 | B41: + | C41: Λοιπά έκτακτα έσοδα | D41: ="("&B41&")"&" ("&A41&") "&"_"&C41 -> (+) (16) _Λοιπά έκτακτα έσοδα
A43: ΚΑΕ | B43: 3β | C43: Έσοδα ΠΟΕ που προβλέπεται να βεβαιωθούν και να εισπραχθούν για πρώτη φορά
A44: 2 | B44: + | C44: Έσοδα παρελθόντων οικονομικών ετών (Π.Ο.Ε.) που βεβαιώνονται για πρώτη φορά | D44: ="("&B44&")"&" ("&A44&") "&"_"&C44 -> (+) (2) _Έσοδα παρελθόντων οικονομικών ετών (Π.Ο.Ε.) που βεβαιώνονται για πρώτη φορά | F44: ="("&D44&")"&" ("&C44&") "&"_"&E44 -> ((+) (2) _Έσοδα παρελθόντων οικονομικών ετών (Π.Ο.Ε.) που βεβαιώνονται για πρώτη φορά) (Έσοδα παρελθόντων οικονομικών ετών (Π.Ο.Ε.) που βεβαιώνονται για πρώτη φορά) _
A46: ΚΑΕ | B46: 4 | C46: Εκτιμώμενα έσοδα από απαιτήσεις ΠΟΕ
A47: 32 | B47: + | C47: Εισπρακτέα υπόλοιπα από βεβαιωθέντα έσοδα κατά τα παρελθόντα έτη | D47: ="("&B47&")"&" ("&A47&") "&"_"&C47 -> (+) (32) _Εισπρακτέα υπόλοιπα από βεβαιωθέντα έσοδα κατά τα παρελθόντα έτη | F47: =+D47&D48 -> (+) (32) _Εισπρακτέα υπόλοιπα από βεβαιωθέντα έσοδα κατά τα παρελθόντα έτη(-) (8511) _Προβλέψεις μη είσπραξης εισπρακτέων υπολοίπων
A48: 8511 | B48: - | C48: Προβλέψεις μη είσπραξης εισπρακτέων υπολοίπων | D48: ="("&B48&")"&" ("&A48&") "&"_"&C48 -> (-) (8511) _Προβλέψεις μη είσπραξης εισπρακτέων υπολοίπων
A50: ΚΑΕ | B50: 5 | C50: Λοιπά έσοδα
A51: 31 | B51: + | C51: Εισπράξεις από δάνεια | D51: ="("&B51&")"&" ("&A51&") "&"_"&C51 -> (+) (31) _Εισπράξεις από δάνεια | F51: =+D51&D52&D53&D54&D55&D56&D57&D58 -> (+) (31) _Εισπράξεις από δάνεια(-) (3123) _Αναπτυξιακά - Επενδυτικά δάνεια από ειδικά προγράμματα [Πρόγραμμα «Αντώνης Τρίτσης» (παρ. 5 του άρ. 130 του ν. 4635/2019, Α΄ 167, ΚΕΦΑΛΑΙΟ Β΄ της κυα υπ’ αριθμ. 22766/09-04-2020) - Πρόγραμμα Φιλόδημος Ι (αρ. 69 του ν. 4509/2017)](-) (3125) _Δάνεια που αφορούν στα Τοπικά Χωρικά Σχέδια (αρ. 70 του ν. 4509/2017)(-) (3126) _Δάνεια που αφορούν σε ενεργειακή αναβάθμιση δημόσιων κτιρίων (αρ. 37 του ν. 4608/2019)(-) (3129) _Λοιπά Αναπτυξιακά – Επενδυτικά δάνεια από ειδικά προγράμματα(+) (41) _Εισπράξεις υπέρ δημοσίου και τρίτων (+) (42) _Επιστροφές χρημάτων(+) (4319) _Λοιπά έσοδα προς απόδοση σε τρίτους
A52: 3123 | B52: - | C52: Αναπτυξιακά - Επενδυτικά δάνεια από ειδικά προγράμματα [Πρόγραμμα «Αντώνης Τρίτσης» (παρ. 5 του άρ. 130 του ν. 4635/2019, Α΄ 167, ΚΕΦΑΛΑΙΟ Β΄ της κυα υπ’ αριθμ. 22766/09-04-2020) - Πρόγραμμα Φιλόδημος Ι (αρ. 69 του ν. 4509/2017)] | D52: ="("&B52&")"&" ("&A52&") "&"_"&C52 -> (-) (3123) _Αναπτυξιακά - Επενδυτικά δάνεια από ειδικά προγράμματα [Πρόγραμμα «Αντώνης Τρίτσης» (παρ. 5 του άρ. 130 του ν. 4635/2019, Α΄ 167, ΚΕΦΑΛΑΙΟ Β΄ της κυα υπ’ αριθμ. 22766/09-04-2020) - Πρόγραμμα Φιλόδημος Ι (αρ. 69 του ν. 4509/2017)]
A53: 3125 | B53: - | C53: Δάνεια που αφορούν στα Τοπικά Χωρικά Σχέδια (αρ. 70 του ν. 4509/2017) | D53: ="("&B53&")"&" ("&A53&") "&"_"&C53 -> (-) (3125) _Δάνεια που αφορούν στα Τοπικά Χωρικά Σχέδια (αρ. 70 του ν. 4509/2017)
A54: 3126 | B54: - | C54: Δάνεια που αφορούν σε ενεργειακή αναβάθμιση δημόσιων κτιρίων (αρ. 37 του ν. 4608/2019) | D54: ="("&B54&")"&" ("&A54&") "&"_"&C54 -> (-) (3126) _Δάνεια που αφορούν σε ενεργειακή αναβάθμιση δημόσιων κτιρίων (αρ. 37 του ν. 4608/2019)
A55: 3129 | B55: - | C55: Λοιπά Αναπτυξιακά – Επενδυτικά δάνεια από ειδικά προγράμματα | D55: ="("&B55&")"&" ("&A55&") "&"_"&C55 -> (-) (3129) _Λοιπά Αναπτυξιακά – Επενδυτικά δάνεια από ειδικά προγράμματα
A56: 41 | B56: + | C56: Εισπράξεις υπέρ δημοσίου και τρίτων | D56: ="("&B56&")"&" ("&A56&") "&"_"&C56 -> (+) (41) _Εισπράξεις υπέρ δημοσίου και τρίτων
A57: 42 | B57: + | C57: Επιστροφές χρημάτων | D57: ="("&B57&")"&" ("&A57&") "&"_"&C57 -> (+) (42) _Επιστροφές χρημάτων
A58: 4319 | B58: + | C58: Λοιπά έσοδα προς απόδοση σε τρίτους | D58: ="("&B58&")"&" ("&A58&") "&"_"&C58 -> (+) (4319) _Λοιπά έσοδα προς απόδοση σε τρίτους
A60: ΚΑΕ | B60: 7 | C60: Προσαρμοσμένο χρηματικό υπόλοιπο
A61: 5 | B61: + | C61: ΧΡΗΜΑΤΙΚΟ ΥΠΟΛΟΙΠΟ | D61: ="("&B61&")"&" ("&A61&") "&"_"&C61 -> (+) (5) _ΧΡΗΜΑΤΙΚΟ ΥΠΟΛΟΙΠΟ | F61: =+D61&D62&D63 -> (+) (5) _ΧΡΗΜΑΤΙΚΟ ΥΠΟΛΟΙΠΟ(-) (8512) _Προβλέψεις μη είσπραξης εξαιτίας λογιστικών εκκρεμοτήτων(-) (8513) _Προβλέψεις μη είσπραξης εξαιτίας ταμειακών ελλειμμάτων
A62: 8512 | B62: - | C62: Προβλέψεις μη είσπραξης εξαιτίας λογιστικών εκκρεμοτήτων | D62: ="("&B62&")"&" ("&A62&") "&"_"&C62 -> (-) (8512) _Προβλέψεις μη είσπραξης εξαιτίας λογιστικών εκκρεμοτήτων
A63: 8513 | B63: - | C63: Προβλέψεις μη είσπραξης εξαιτίας ταμειακών ελλειμμάτων | D63: ="("&B63&")"&" ("&A63&") "&"_"&C63 -> (-) (8513) _Προβλέψεις μη είσπραξης εξαιτίας ταμειακών ελλειμμάτων
B68: Β | C68: ΕΞΟΔΑ
A70: ΚΑΕ | B70: 1 | C70: Αμοιβές προσωπικού
A71: 60 | B71: + | C71: Αμοιβές και έξοδα προσωπικού | D71: ="("&B71&")"&" ("&A71&") "&"_"&C71 -> (+) (60) _Αμοιβές και έξοδα προσωπικού | F71: =+D71&D72 -> (+) (60) _Αμοιβές και έξοδα προσωπικού(+) (8111) _Αμοιβές και έξοδα προσωπικού (ΠΟΕ)
A72: 8111 | B72: + | C72: Αμοιβές και έξοδα προσωπικού (ΠΟΕ) | D72: ="("&B72&")"&" ("&A72&") "&"_"&C72 -> (+) (8111) _Αμοιβές και έξοδα προσωπικού (ΠΟΕ)
A74: ΚΑΕ | B74: 2 | C74: Λοιπά έξοδα χρήσης
A75: 6 | B75: + | C75: Έξοδα Χρήσης | D75: ="("&B75&")"&" ("&A75&") "&"_"&C75 -> (+) (6) _Έξοδα Χρήσης | F75: =+D75&D76&D77&D78 -> (+) (6) _Έξοδα Χρήσης(-) (60) _Αμοιβές και έξοδα προσωπικού(-) (ΥΠΗΡ.60-69_KAE 65) _ΠΛΗΡΩΜΕΣ ΓΙΑ ΤΗΝ ΕΞΥΠΗΡΕΤΗΣΗ ΔΗΜΟΣΙΑΣ ΠΙΣΤΕΩΣ που παρακολουθούνται στους ΚΑ υπηρεσιών του ΠΔΕ: 60 - 69 (+) (8243) _Απόδοση επιδομάτων για φυσικές καταστροφές σε δικαιούχους
A76: 60 | B76: - | C76: Αμοιβές και έξοδα προσωπικού | D76: ="("&B76&")"&" ("&A76&") "&"_"&C76 -> (-) (60) _Αμοιβές και έξοδα προσωπικού
A77: ΥΠΗΡ.60-69_KAE 65 | B77: - | C77: ΠΛΗΡΩΜΕΣ ΓΙΑ ΤΗΝ ΕΞΥΠΗΡΕΤΗΣΗ ΔΗΜΟΣΙΑΣ ΠΙΣΤΕΩΣ που παρακολουθούνται στους ΚΑ υπηρεσιών του ΠΔΕ: 60 - 69 | D77: ="("&B77&")"&" ("&A77&") "&"_"&C77 -> (-) (ΥΠΗΡ.60-69_KAE 65) _ΠΛΗΡΩΜΕΣ ΓΙΑ ΤΗΝ ΕΞΥΠΗΡΕΤΗΣΗ ΔΗΜΟΣΙΑΣ ΠΙΣΤΕΩΣ που παρακολουθούνται στους ΚΑ υπηρεσιών του ΠΔΕ: 60 - 69
A78: 8243 | B78: + | C78: Απόδοση επιδομάτων για φυσικές καταστροφές σε δικαιούχους | D78: ="("&B78&")"&" ("&A78&") "&"_"&C78 -> (+) (8243) _Απόδοση επιδομάτων για φυσικές καταστροφές σε δικαιούχους
A80: ΚΑΕ | B80: 3 | C80: Δαπάνες για επενδύσεις
A81: 7 | B81: + | C81: Επενδύσεις | D81: ="("&B81&")"&" ("&A81&") "&"_"&C81 -> (+) (7) _Επενδύσεις | F81: =+D81&D82 -> (+) (7) _Επενδύσεις(+) (812) _Πληρωμές επενδυτικών δαπανών (ΠΟΕ)
A82: 812 | B82: + | C82: Πληρωμές επενδυτικών δαπανών (ΠΟΕ) | D82: ="("&B82&")"&" ("&A82&") "&"_"&C82 -> (+) (812) _Πληρωμές επενδυτικών δαπανών (ΠΟΕ)
A84: ΚΑΕ | B84: 4 | C84: Πληρωμές ΠΟΕ
A85: 81 | B85: + | C85: Πληρωμές υποχρεώσεων (Π.Ο.Ε.) | D85: ="("&B85&")"&" ("&A85&") "&"_"&C85 -> (+) (81) _Πληρωμές υποχρεώσεων (Π.Ο.Ε.) | F85: =D85&D86&D87&D88 -> (+) (81) _Πληρωμές υποχρεώσεων (Π.Ο.Ε.)(-) (8111) _Αμοιβές και έξοδα προσωπικού(-) (812) _Πληρωμές επενδυτικών δαπανών (ΠΟΕ)(+) (83) _Επιχορηγούμενες πληρωμές υποχρεώσεων (Π.Ο.Ε.)
A86: 8111 | B86: - | C86: Αμοιβές και έξοδα προσωπικού | D86: ="("&B86&")"&" ("&A86&") "&"_"&C86 -> (-) (8111) _Αμοιβές και έξοδα προσωπικού
A87: 812 | B87: - | C87: Πληρωμές επενδυτικών δαπανών (ΠΟΕ) | D87: ="("&B87&")"&" ("&A87&") "&"_"&C87 -> (-) (812) _Πληρωμές επενδυτικών δαπανών (ΠΟΕ)
A88: 83 | B88: + | C88: Επιχορηγούμενες πληρωμές υποχρεώσεων (Π.Ο.Ε.) | D88: ="("&B88&")"&" ("&A88&") "&"_"&C88 -> (+) (83) _Επιχορηγούμενες πληρωμές υποχρεώσεων (Π.Ο.Ε.)
A91: ΚΑΕ | B91: 5 | C91: Αποδόσεις εσόδων υπέρ Δημοσίου και τρίτων
A92: 82 | B92: + | C92: α) Αποδόσεις εσόδων υπέρ Δημοσίου και τρίτων | D92: ="("&B92&")"&" ("&A92&") "&"_"&C92 -> (+) (82) _α) Αποδόσεις εσόδων υπέρ Δημοσίου και τρίτων | F92: =+D92&D93&D94 -> (+) (82) _α) Αποδόσεις εσόδων υπέρ Δημοσίου και τρίτων(-) (8243) _Απόδοση επιδομάτων για φυσικές καταστροφές σε δικαιούχους(-) (8262) _Επιστροφή χρημάτων λόγω ανάκλησης κατανομής χρηματοδότησης ΠΔΕ
A93: 8243 | B93: - | C93: Απόδοση επιδομάτων για φυσικές καταστροφές σε δικαιούχους | D93: ="("&B93&")"&" ("&A93&") "&"_"&C93 -> (-) (8243) _Απόδοση επιδομάτων για φυσικές καταστροφές σε δικαιούχους
A94: 8262 | B94: - | C94: Επιστροφή χρημάτων λόγω ανάκλησης κατανομής χρηματοδότησης ΠΔΕ | D94: ="("&B94&")"&" ("&A94&") "&"_"&C94 -> (-) (8262) _Επιστροφή χρημάτων λόγω ανάκλησης κατανομής χρηματοδότησης ΠΔΕ
A96: ΚΑΕ | B96: 6 | C96: Αποθεματικό
A97: 9 | B97: + | C97: ΑΠΟΘΕΜΑΤΙΚΟ | D97: ="("&B97&")"&" ("&A97&") "&"_"&C97 -> (+) (9) _ΑΠΟΘΕΜΑΤΙΚΟ | F97: =+D97 -> (+) (9) _ΑΠΟΘΕΜΑΤΙΚΟ

Sheet list
B1: ΔΗΜΟΣ ΑΒΔΗΡΩΝ
B2: ΔΗΜΟΣ ΑΓΑΘΟΝΗΣΙΟΥ
B3: ΔΗΜΟΣ ΑΓΙΑΣ
B4: ΔΗΜΟΣ ΑΓΙΑΣ ΒΑΡΒΑΡΑΣ
B5: ΔΗΜΟΣ ΑΓΙΑΣ ΠΑΡΑΣΚΕΥΗΣ
B6: ΔΗΜΟΣ ΑΓΙΟΥ ΒΑΣΙΛΕΙΟΥ
B7: ΔΗΜΟΣ ΑΓΙΟΥ ΔΗΜΗΤΡΙΟΥ
B8: ΔΗΜΟΣ ΑΓΙΟΥ ΕΥΣΤΡΑΤΙΟΥ
B9: ΔΗΜΟΣ ΑΓΙΟΥ ΝΙΚΟΛΑΟΥ
B10: ΔΗΜΟΣ ΑΓΙΩΝ ΑΝΑΡΓΥΡΩΝ-ΚΑΜΑΤΕΡΟΥ
B11: ΔΗΜΟΣ ΑΓΚΙΣΤΡΙΟΥ
B12: ΔΗΜΟΣ ΑΓΡΑΦΩΝ
... B804: ΦΟΡΕΑΣ ΠΡΟΝΟΙΑΣ ΔΗΜΟΥ ΗΡΑΚΛΕΙΑΣ (ΦΟ.Π.Η.)
